BEGIN:VCALENDAR
VERSION:2.0
PRODID:-//Library Market//iCal Export//EN
BEGIN:VEVENT
SUMMARY:Curiosity Club
UID:44561
DTSTAMP:20260423T093400Z
DTSTART:20260601T200000Z
DTEND:20260601T210000Z
LOCATION:Wilson Branch, 365 Windsor Ave, Windsor, CT 06095, United States
ROOM: Wilson Children&#039;s Room
DESCRIPTION:Calling all curious kiddos! Join us on select Mondays for STEM
  fun with college student and branch tutor Azarah and Ms. Cailey. We&#039;
 ll have different hands-on activities each session for kids age 5-10. 
URL:https://windsorpl.librarycalendar.com/event/science-fun-azarah-44561
END:VEVENT
END:VCALENDAR
